BEGIN:VCALENDAR
VERSION:2.0
PRODID:-//Ally Pally Kalbe - Dartabteilung der SG Kalbe e.V. - ECPv6.15.16//NONSGML v1.0//EN
CALSCALE:GREGORIAN
METHOD:PUBLISH
X-ORIGINAL-URL:https://www.ally-pally-kalbe.de
X-WR-CALDESC:Veranstaltungen für Ally Pally Kalbe - Dartabteilung der SG Kalbe e.V.
REFRESH-INTERVAL;VALUE=DURATION:PT1H
X-Robots-Tag:noindex
X-PUBLISHED-TTL:PT1H
BEGIN:VTIMEZONE
TZID:Europe/Berlin
BEGIN:DAYLIGHT
TZOFFSETFROM:+0100
TZOFFSETTO:+0200
TZNAME:CEST
DTSTART:20170326T010000
END:DAYLIGHT
BEGIN:STANDARD
TZOFFSETFROM:+0200
TZOFFSETTO:+0100
TZNAME:CET
DTSTART:20171029T010000
END:STANDARD
BEGIN:DAYLIGHT
TZOFFSETFROM:+0100
TZOFFSETTO:+0200
TZNAME:CEST
DTSTART:20180325T010000
END:DAYLIGHT
BEGIN:STANDARD
TZOFFSETFROM:+0200
TZOFFSETTO:+0100
TZNAME:CET
DTSTART:20181028T010000
END:STANDARD
BEGIN:DAYLIGHT
TZOFFSETFROM:+0100
TZOFFSETTO:+0200
TZNAME:CEST
DTSTART:20190331T010000
END:DAYLIGHT
BEGIN:STANDARD
TZOFFSETFROM:+0200
TZOFFSETTO:+0100
TZNAME:CET
DTSTART:20191027T010000
END:STANDARD
END:VTIMEZONE
BEGIN:VEVENT
DTSTART;TZID=Europe/Berlin:20181020T170000
DTEND;TZID=Europe/Berlin:20181020T210000
DTSTAMP:20260422T021952
CREATED:20180731T231606Z
LAST-MODIFIED:20181019T074707Z
UID:1943-1540054800-1540069200@www.ally-pally-kalbe.de
SUMMARY:04.Spieltag BDVLH Bezirksliga 2
DESCRIPTION:Ally Pally A – Dart Devils Drochtersen B
URL:https://www.ally-pally-kalbe.de/event/04-spieltag-bdvlh-bezirksliga-2/
END:VEVENT
BEGIN:VEVENT
DTSTART;TZID=Europe/Berlin:20181020T190000
DTEND;TZID=Europe/Berlin:20181020T230000
DTSTAMP:20260422T021952
CREATED:20180731T231839Z
LAST-MODIFIED:20181019T074611Z
UID:1945-1540062000-1540076400@www.ally-pally-kalbe.de
SUMMARY:04.Spieltag BDVLH Bezirksklasse 2
DESCRIPTION:Ally Pally B -MTV Himelpforten A ( Heimrecht wurde getauscht )
URL:https://www.ally-pally-kalbe.de/event/04-spieltag-bdvlh-bezirksklasse-2/
END:VEVENT
BEGIN:VEVENT
DTSTART;TZID=Europe/Berlin:20181020T190000
DTEND;TZID=Europe/Berlin:20181020T230000
DTSTAMP:20260422T021952
CREATED:20180731T232040Z
LAST-MODIFIED:20180731T232040Z
UID:1947-1540062000-1540076400@www.ally-pally-kalbe.de
SUMMARY:04.Spieltag BDVLH Bezirksklasse 2
DESCRIPTION:DC Zeven C – Ally Pally C
URL:https://www.ally-pally-kalbe.de/event/04-spieltag-bdvlh-bezirksklasse-2-2/
END:VEVENT
BEGIN:VEVENT
DTSTART;TZID=Europe/Berlin:20181027T190000
DTEND;TZID=Europe/Berlin:20181027T230000
DTSTAMP:20260422T021952
CREATED:20180801T154314Z
LAST-MODIFIED:20180801T154314Z
UID:1952-1540666800-1540681200@www.ally-pally-kalbe.de
SUMMARY:05.Spieltag BDVLH Bezirksklasse 2
DESCRIPTION:Flying Beavers A – Ally Pally B
URL:https://www.ally-pally-kalbe.de/event/05-spieltag-bdvlh-bezirksklasse-2-2/
LOCATION:Bevern\, Minstedter Straße 1\, Bevern\, 27432
END:VEVENT
BEGIN:VEVENT
DTSTART;TZID=Europe/Berlin:20181027T190000
DTEND;TZID=Europe/Berlin:20181027T230000
DTSTAMP:20260422T021952
CREATED:20180801T154439Z
LAST-MODIFIED:20180801T154439Z
UID:1954-1540666800-1540681200@www.ally-pally-kalbe.de
SUMMARY:05.Spieltag BDVLH Bezirksklasse 2
DESCRIPTION:Ally Pally C – SV Buchholz/Aller B
URL:https://www.ally-pally-kalbe.de/event/05-spieltag-bdvlh-bezirksklasse-2-3/
LOCATION:DGH Kalbe\, Dorfstraße 3\, Kalbe\, Niedersachsen\, 27419
END:VEVENT
BEGIN:VEVENT
DTSTART;TZID=Europe/Berlin:20181027T190000
DTEND;TZID=Europe/Berlin:20181027T233000
DTSTAMP:20260422T021952
CREATED:20180801T154046Z
LAST-MODIFIED:20181022T115135Z
UID:1949-1540666800-1540683000@www.ally-pally-kalbe.de
SUMMARY:05.Spieltag BDVLH Bezirksliga 2
DESCRIPTION:Ally Pally A – Mad House A
URL:https://www.ally-pally-kalbe.de/event/05-spieltag-bdvlh-bezirksliga-2/
LOCATION:DGH Kalbe\, Dorfstraße 3\, Kalbe\, Niedersachsen\, 27419
END:VEVENT
END:VCALENDAR