BEGIN:VCALENDAR
VERSION:2.0
PRODID:-//Ally Pally Kalbe - Dartabteilung der SG Kalbe e.V. - ECPv6.15.16//NONSGML v1.0//EN
CALSCALE:GREGORIAN
METHOD:PUBLISH
X-WR-CALNAME:Ally Pally Kalbe - Dartabteilung der SG Kalbe e.V.
X-ORIGINAL-URL:https://www.ally-pally-kalbe.de
X-WR-CALDESC:Veranstaltungen für Ally Pally Kalbe - Dartabteilung der SG Kalbe e.V.
REFRESH-INTERVAL;VALUE=DURATION:PT1H
X-Robots-Tag:noindex
X-PUBLISHED-TTL:PT1H
BEGIN:VTIMEZONE
TZID:Europe/Berlin
BEGIN:DAYLIGHT
TZOFFSETFROM:+0100
TZOFFSETTO:+0200
TZNAME:CEST
DTSTART:20180325T010000
END:DAYLIGHT
BEGIN:STANDARD
TZOFFSETFROM:+0200
TZOFFSETTO:+0100
TZNAME:CET
DTSTART:20181028T010000
END:STANDARD
BEGIN:DAYLIGHT
TZOFFSETFROM:+0100
TZOFFSETTO:+0200
TZNAME:CEST
DTSTART:20190331T010000
END:DAYLIGHT
BEGIN:STANDARD
TZOFFSETFROM:+0200
TZOFFSETTO:+0100
TZNAME:CET
DTSTART:20191027T010000
END:STANDARD
BEGIN:DAYLIGHT
TZOFFSETFROM:+0100
TZOFFSETTO:+0200
TZNAME:CEST
DTSTART:20200329T010000
END:DAYLIGHT
BEGIN:STANDARD
TZOFFSETFROM:+0200
TZOFFSETTO:+0100
TZNAME:CET
DTSTART:20201025T010000
END:STANDARD
END:VTIMEZONE
BEGIN:VEVENT
DTSTART;TZID=Europe/Berlin:20190223T190000
DTEND;TZID=Europe/Berlin:20190223T223000
DTSTAMP:20260421T213010
CREATED:20180801T220909Z
LAST-MODIFIED:20190219T064449Z
UID:1988-1550948400-1550961000@www.ally-pally-kalbe.de
SUMMARY:10.Spieltag BDVLH Bezirksklasse 2
DESCRIPTION:Ally Pally C – Flying Beavers A
URL:https://www.ally-pally-kalbe.de/event/10-spieltag-bdvlh-bezirksklasse-2-3/
LOCATION:DGH Kalbe\, Dorfstraße 3\, Kalbe\, Niedersachsen\, 27419
END:VEVENT
BEGIN:VEVENT
DTSTART;TZID=Europe/Berlin:20190223T190000
DTEND;TZID=Europe/Berlin:20190223T230000
DTSTAMP:20260421T213010
CREATED:20180801T220642Z
LAST-MODIFIED:20180801T220642Z
UID:1984-1550948400-1550962800@www.ally-pally-kalbe.de
SUMMARY:10.Spieltag BDVLH Bezirksliga 2
DESCRIPTION:Ally Pally A – Heidedarter A
URL:https://www.ally-pally-kalbe.de/event/10-spieltag-bdvlh-bezirksliga-2-2/
LOCATION:DGH Kalbe\, Dorfstraße 3\, Kalbe\, Niedersachsen\, 27419
END:VEVENT
BEGIN:VEVENT
DTSTART;TZID=Europe/Berlin:20190223T190000
DTEND;TZID=Europe/Berlin:20190223T230000
DTSTAMP:20260421T213010
CREATED:20180801T220806Z
LAST-MODIFIED:20180801T220806Z
UID:1986-1550948400-1550962800@www.ally-pally-kalbe.de
SUMMARY:10.Spieltag BDVLH Bezirksklasse 2
DESCRIPTION:Heidedarter B – Ally Pally B
URL:https://www.ally-pally-kalbe.de/event/10-spieltag-bdvlh-bezirksklasse-2-2/
LOCATION:Heidedarter\, Krelingen 159\, Walsrode\, Niedersachsen\, 29664
END:VEVENT
END:VCALENDAR