BEGIN:VCALENDAR
VERSION:2.0
PRODID:-//Ally Pally Kalbe - Dartabteilung der SG Kalbe e.V. - ECPv6.15.16//NONSGML v1.0//EN
CALSCALE:GREGORIAN
METHOD:PUBLISH
X-WR-CALNAME:Ally Pally Kalbe - Dartabteilung der SG Kalbe e.V.
X-ORIGINAL-URL:https://www.ally-pally-kalbe.de
X-WR-CALDESC:Veranstaltungen für Ally Pally Kalbe - Dartabteilung der SG Kalbe e.V.
REFRESH-INTERVAL;VALUE=DURATION:PT1H
X-Robots-Tag:noindex
X-PUBLISHED-TTL:PT1H
BEGIN:VTIMEZONE
TZID:Europe/Berlin
BEGIN:DAYLIGHT
TZOFFSETFROM:+0100
TZOFFSETTO:+0200
TZNAME:CEST
DTSTART:20180325T010000
END:DAYLIGHT
BEGIN:STANDARD
TZOFFSETFROM:+0200
TZOFFSETTO:+0100
TZNAME:CET
DTSTART:20181028T010000
END:STANDARD
BEGIN:DAYLIGHT
TZOFFSETFROM:+0100
TZOFFSETTO:+0200
TZNAME:CEST
DTSTART:20190331T010000
END:DAYLIGHT
BEGIN:STANDARD
TZOFFSETFROM:+0200
TZOFFSETTO:+0100
TZNAME:CET
DTSTART:20191027T010000
END:STANDARD
BEGIN:DAYLIGHT
TZOFFSETFROM:+0100
TZOFFSETTO:+0200
TZNAME:CEST
DTSTART:20200329T010000
END:DAYLIGHT
BEGIN:STANDARD
TZOFFSETFROM:+0200
TZOFFSETTO:+0100
TZNAME:CET
DTSTART:20201025T010000
END:STANDARD
END:VTIMEZONE
BEGIN:VEVENT
DTSTART;TZID=Europe/Berlin:20190202T190000
DTEND;TZID=Europe/Berlin:20190202T230000
DTSTAMP:20260421T213122
CREATED:20180801T220324Z
LAST-MODIFIED:20180801T220324Z
UID:1979-1549134000-1549148400@www.ally-pally-kalbe.de
SUMMARY:09.Spieltag BDVLH Bezirksklasse 2
DESCRIPTION:Ally Pally B – Dart Moor Devils A
URL:https://www.ally-pally-kalbe.de/event/09-spieltag-bdvlh-bezirksklasse-2-3/
LOCATION:DGH Kalbe\, Dorfstraße 3\, Kalbe\, Niedersachsen\, 27419
END:VEVENT
BEGIN:VEVENT
DTSTART;TZID=Europe/Berlin:20190202T190000
DTEND;TZID=Europe/Berlin:20190202T230000
DTSTAMP:20260421T213122
CREATED:20180801T220437Z
LAST-MODIFIED:20180801T220458Z
UID:1982-1549134000-1549148400@www.ally-pally-kalbe.de
SUMMARY:09.Spieltag BDVLH Bezirksklasse 2
DESCRIPTION:Heidedarter B – Ally Pally C
URL:https://www.ally-pally-kalbe.de/event/09-spieltag-bdvlh-bezirksklasse-2-4/
LOCATION:Heidedarter\, Krelingen 159\, Walsrode\, Niedersachsen\, 29664
END:VEVENT
END:VCALENDAR