BEGIN:VCALENDAR
VERSION:2.0
PRODID:-//Ally Pally Kalbe - Dartabteilung der SG Kalbe e.V. - ECPv6.15.16//NONSGML v1.0//EN
CALSCALE:GREGORIAN
METHOD:PUBLISH
X-ORIGINAL-URL:https://www.ally-pally-kalbe.de
X-WR-CALDESC:Veranstaltungen für Ally Pally Kalbe - Dartabteilung der SG Kalbe e.V.
REFRESH-INTERVAL;VALUE=DURATION:PT1H
X-Robots-Tag:noindex
X-PUBLISHED-TTL:PT1H
BEGIN:VTIMEZONE
TZID:Europe/Berlin
BEGIN:DAYLIGHT
TZOFFSETFROM:+0100
TZOFFSETTO:+0200
TZNAME:CEST
DTSTART:20180325T010000
END:DAYLIGHT
BEGIN:STANDARD
TZOFFSETFROM:+0200
TZOFFSETTO:+0100
TZNAME:CET
DTSTART:20181028T010000
END:STANDARD
BEGIN:DAYLIGHT
TZOFFSETFROM:+0100
TZOFFSETTO:+0200
TZNAME:CEST
DTSTART:20190331T010000
END:DAYLIGHT
BEGIN:STANDARD
TZOFFSETFROM:+0200
TZOFFSETTO:+0100
TZNAME:CET
DTSTART:20191027T010000
END:STANDARD
BEGIN:DAYLIGHT
TZOFFSETFROM:+0100
TZOFFSETTO:+0200
TZNAME:CEST
DTSTART:20200329T010000
END:DAYLIGHT
BEGIN:STANDARD
TZOFFSETFROM:+0200
TZOFFSETTO:+0100
TZNAME:CET
DTSTART:20201025T010000
END:STANDARD
END:VTIMEZONE
BEGIN:VEVENT
DTSTART;TZID=Europe/Berlin:20190112T190000
DTEND;TZID=Europe/Berlin:20190112T230000
DTSTAMP:20260421T225014
CREATED:20180801T215734Z
LAST-MODIFIED:20180801T215734Z
UID:1972-1547319600-1547334000@www.ally-pally-kalbe.de
SUMMARY:08.Spieltag BDVLH Bezirksliga 2
DESCRIPTION:Ally Pally A – Dart Dragons C
URL:https://www.ally-pally-kalbe.de/event/08-spieltag-bdvlh-bezirksliga-2-2/
LOCATION:DGH Kalbe\, Dorfstraße 3\, Kalbe\, Niedersachsen\, 27419
END:VEVENT
BEGIN:VEVENT
DTSTART;TZID=Europe/Berlin:20190112T190000
DTEND;TZID=Europe/Berlin:20190112T230000
DTSTAMP:20260421T225014
CREATED:20180801T220028Z
LAST-MODIFIED:20180801T220028Z
UID:1975-1547319600-1547334000@www.ally-pally-kalbe.de
SUMMARY:08.Spieltag BDVLH Bezirksklasse 2
DESCRIPTION:Ally Pally C – Ally Pally B
URL:https://www.ally-pally-kalbe.de/event/08-spieltag-bdvlh-bezirksklasse-2-3/
LOCATION:DGH Kalbe\, Dorfstraße 3\, Kalbe\, Niedersachsen\, 27419
END:VEVENT
END:VCALENDAR