BEGIN:VCALENDAR
VERSION:2.0
PRODID:-//Ally Pally Kalbe - Dartabteilung der SG Kalbe e.V. - ECPv6.15.16//NONSGML v1.0//EN
CALSCALE:GREGORIAN
METHOD:PUBLISH
X-WR-CALNAME:Ally Pally Kalbe - Dartabteilung der SG Kalbe e.V.
X-ORIGINAL-URL:https://www.ally-pally-kalbe.de
X-WR-CALDESC:Veranstaltungen für Ally Pally Kalbe - Dartabteilung der SG Kalbe e.V.
REFRESH-INTERVAL;VALUE=DURATION:PT1H
X-Robots-Tag:noindex
X-PUBLISHED-TTL:PT1H
BEGIN:VTIMEZONE
TZID:Europe/Berlin
BEGIN:DAYLIGHT
TZOFFSETFROM:+0100
TZOFFSETTO:+0200
TZNAME:CEST
DTSTART:20170326T010000
END:DAYLIGHT
BEGIN:STANDARD
TZOFFSETFROM:+0200
TZOFFSETTO:+0100
TZNAME:CET
DTSTART:20171029T010000
END:STANDARD
BEGIN:DAYLIGHT
TZOFFSETFROM:+0100
TZOFFSETTO:+0200
TZNAME:CEST
DTSTART:20180325T010000
END:DAYLIGHT
BEGIN:STANDARD
TZOFFSETFROM:+0200
TZOFFSETTO:+0100
TZNAME:CET
DTSTART:20181028T010000
END:STANDARD
BEGIN:DAYLIGHT
TZOFFSETFROM:+0100
TZOFFSETTO:+0200
TZNAME:CEST
DTSTART:20190331T010000
END:DAYLIGHT
BEGIN:STANDARD
TZOFFSETFROM:+0200
TZOFFSETTO:+0100
TZNAME:CET
DTSTART:20191027T010000
END:STANDARD
END:VTIMEZONE
BEGIN:VEVENT
DTSTART;TZID=Europe/Berlin:20181124T190000
DTEND;TZID=Europe/Berlin:20181124T230000
DTSTAMP:20260422T021428
CREATED:20180801T160405Z
LAST-MODIFIED:20181106T164731Z
UID:1969-1543086000-1543100400@www.ally-pally-kalbe.de
SUMMARY:07.Spieltag BDVLH Bezirksklasse 2
DESCRIPTION:Ally Pally C – MTV Himmelpforten A
URL:https://www.ally-pally-kalbe.de/event/07-spieltag-bdvlh-bezirksklasse-2-3/
END:VEVENT
END:VCALENDAR