BEGIN:VCALENDAR
VERSION:2.0
PRODID:-//Ally Pally Kalbe - Dartabteilung der SG Kalbe e.V. - ECPv6.15.16//NONSGML v1.0//EN
CALSCALE:GREGORIAN
METHOD:PUBLISH
X-ORIGINAL-URL:https://www.ally-pally-kalbe.de
X-WR-CALDESC:Veranstaltungen für Ally Pally Kalbe - Dartabteilung der SG Kalbe e.V.
REFRESH-INTERVAL;VALUE=DURATION:PT1H
X-Robots-Tag:noindex
X-PUBLISHED-TTL:PT1H
BEGIN:VTIMEZONE
TZID:Europe/Berlin
BEGIN:DAYLIGHT
TZOFFSETFROM:+0100
TZOFFSETTO:+0200
TZNAME:CEST
DTSTART:20170326T010000
END:DAYLIGHT
BEGIN:STANDARD
TZOFFSETFROM:+0200
TZOFFSETTO:+0100
TZNAME:CET
DTSTART:20171029T010000
END:STANDARD
BEGIN:DAYLIGHT
TZOFFSETFROM:+0100
TZOFFSETTO:+0200
TZNAME:CEST
DTSTART:20180325T010000
END:DAYLIGHT
BEGIN:STANDARD
TZOFFSETFROM:+0200
TZOFFSETTO:+0100
TZNAME:CET
DTSTART:20181028T010000
END:STANDARD
BEGIN:DAYLIGHT
TZOFFSETFROM:+0100
TZOFFSETTO:+0200
TZNAME:CEST
DTSTART:20190331T010000
END:DAYLIGHT
BEGIN:STANDARD
TZOFFSETFROM:+0200
TZOFFSETTO:+0100
TZNAME:CET
DTSTART:20191027T010000
END:STANDARD
END:VTIMEZONE
BEGIN:VEVENT
DTSTART;TZID=Europe/Berlin:20181117T190000
DTEND;TZID=Europe/Berlin:20181117T230000
DTSTAMP:20260422T021828
CREATED:20180801T155140Z
LAST-MODIFIED:20180801T155140Z
UID:1957-1542481200-1542495600@www.ally-pally-kalbe.de
SUMMARY:06.Spieltag BDVLH Bezirksliga 2
DESCRIPTION:DC Zeven – Ally Pally A
URL:https://www.ally-pally-kalbe.de/event/06-spieltag-bdvlh-bezirksliga-2/
LOCATION:Zeven\, Kanalstraße\, 27404 Zeven\, Niedersachsen\, 27404
END:VEVENT
BEGIN:VEVENT
DTSTART;TZID=Europe/Berlin:20181117T190000
DTEND;TZID=Europe/Berlin:20181117T230000
DTSTAMP:20260422T021828
CREATED:20180801T155443Z
LAST-MODIFIED:20180801T155443Z
UID:1960-1542481200-1542495600@www.ally-pally-kalbe.de
SUMMARY:06.Spieltag BDVLH Bezirksklasse 2
DESCRIPTION:Ally Pally B – DC Zeven C
URL:https://www.ally-pally-kalbe.de/event/06-spieltag-bdvlh-bezirksklasse-2-3/
LOCATION:DGH Kalbe\, Dorfstraße 3\, Kalbe\, Niedersachsen\, 27419
END:VEVENT
END:VCALENDAR