BEGIN:VCALENDAR
VERSION:2.0
PRODID:-//Ally Pally Kalbe - Dartabteilung der SG Kalbe e.V. - ECPv6.15.16//NONSGML v1.0//EN
CALSCALE:GREGORIAN
METHOD:PUBLISH
X-ORIGINAL-URL:https://www.ally-pally-kalbe.de
X-WR-CALDESC:Veranstaltungen für Ally Pally Kalbe - Dartabteilung der SG Kalbe e.V.
REFRESH-INTERVAL;VALUE=DURATION:PT1H
X-Robots-Tag:noindex
X-PUBLISHED-TTL:PT1H
BEGIN:VTIMEZONE
TZID:Europe/Berlin
BEGIN:DAYLIGHT
TZOFFSETFROM:+0100
TZOFFSETTO:+0200
TZNAME:CEST
DTSTART:20170326T010000
END:DAYLIGHT
BEGIN:STANDARD
TZOFFSETFROM:+0200
TZOFFSETTO:+0100
TZNAME:CET
DTSTART:20171029T010000
END:STANDARD
BEGIN:DAYLIGHT
TZOFFSETFROM:+0100
TZOFFSETTO:+0200
TZNAME:CEST
DTSTART:20180325T010000
END:DAYLIGHT
BEGIN:STANDARD
TZOFFSETFROM:+0200
TZOFFSETTO:+0100
TZNAME:CET
DTSTART:20181028T010000
END:STANDARD
BEGIN:DAYLIGHT
TZOFFSETFROM:+0100
TZOFFSETTO:+0200
TZNAME:CEST
DTSTART:20190331T010000
END:DAYLIGHT
BEGIN:STANDARD
TZOFFSETFROM:+0200
TZOFFSETTO:+0100
TZNAME:CET
DTSTART:20191027T010000
END:STANDARD
END:VTIMEZONE
BEGIN:VEVENT
DTSTART;TZID=Europe/Berlin:20180922T190000
DTEND;TZID=Europe/Berlin:20180922T220000
DTSTAMP:20260422T052343
CREATED:20180731T231038Z
LAST-MODIFIED:20180731T231038Z
UID:1937-1537642800-1537653600@www.ally-pally-kalbe.de
SUMMARY:03.Spieltag BDVLH Bezirksliga 2
DESCRIPTION:Heidedarter A – Ally Pally A
URL:https://www.ally-pally-kalbe.de/event/03-spieltag-bdvlh-bezirksliga-2/
LOCATION:Heidedarter\, Krelingen 159\, Walsrode\, Niedersachsen\, 29664
END:VEVENT
BEGIN:VEVENT
DTSTART;TZID=Europe/Berlin:20180922T190000
DTEND;TZID=Europe/Berlin:20180922T230000
DTSTAMP:20260422T052343
CREATED:20180731T231238Z
LAST-MODIFIED:20180731T231238Z
UID:1939-1537642800-1537657200@www.ally-pally-kalbe.de
SUMMARY:03.Spieltag BDVLH Bezirksklasse 2
DESCRIPTION:Ally Pally B – Heidedarter B
URL:https://www.ally-pally-kalbe.de/event/03-spieltag-bdvlh-bezirksklasse-2/
LOCATION:DGH Kalbe\, Dorfstraße 3\, Kalbe\, Niedersachsen\, 27419
END:VEVENT
BEGIN:VEVENT
DTSTART;TZID=Europe/Berlin:20180922T190000
DTEND;TZID=Europe/Berlin:20180922T230000
DTSTAMP:20260422T052343
CREATED:20180731T231408Z
LAST-MODIFIED:20180731T231408Z
UID:1941-1537642800-1537657200@www.ally-pally-kalbe.de
SUMMARY:03.Spieltag BDVLH Bezirksklasse 2
DESCRIPTION:Flying Beavers A – Ally Pally C
URL:https://www.ally-pally-kalbe.de/event/03-spieltag-bdvlh-bezirksklasse-2-2/
LOCATION:Bevern\, Minstedter Straße 1\, Bevern\, 27432
END:VEVENT
END:VCALENDAR