BEGIN:VCALENDAR
VERSION:2.0
PRODID:-//Ally Pally Kalbe - Dartabteilung der SG Kalbe e.V. - ECPv6.15.16//NONSGML v1.0//EN
CALSCALE:GREGORIAN
METHOD:PUBLISH
X-ORIGINAL-URL:https://www.ally-pally-kalbe.de
X-WR-CALDESC:Veranstaltungen für Ally Pally Kalbe - Dartabteilung der SG Kalbe e.V.
REFRESH-INTERVAL;VALUE=DURATION:PT1H
X-Robots-Tag:noindex
X-PUBLISHED-TTL:PT1H
BEGIN:VTIMEZONE
TZID:Europe/Berlin
BEGIN:DAYLIGHT
TZOFFSETFROM:+0100
TZOFFSETTO:+0200
TZNAME:CEST
DTSTART:20170326T010000
END:DAYLIGHT
BEGIN:STANDARD
TZOFFSETFROM:+0200
TZOFFSETTO:+0100
TZNAME:CET
DTSTART:20171029T010000
END:STANDARD
BEGIN:DAYLIGHT
TZOFFSETFROM:+0100
TZOFFSETTO:+0200
TZNAME:CEST
DTSTART:20180325T010000
END:DAYLIGHT
BEGIN:STANDARD
TZOFFSETFROM:+0200
TZOFFSETTO:+0100
TZNAME:CET
DTSTART:20181028T010000
END:STANDARD
BEGIN:DAYLIGHT
TZOFFSETFROM:+0100
TZOFFSETTO:+0200
TZNAME:CEST
DTSTART:20190331T010000
END:DAYLIGHT
BEGIN:STANDARD
TZOFFSETFROM:+0200
TZOFFSETTO:+0100
TZNAME:CET
DTSTART:20191027T010000
END:STANDARD
END:VTIMEZONE
BEGIN:VEVENT
DTSTART;TZID=Europe/Berlin:20180913T180000
DTEND;TZID=Europe/Berlin:20180913T223000
DTSTAMP:20260422T052421
CREATED:20180815T102525Z
LAST-MODIFIED:20180815T102525Z
UID:2029-1536861600-1536877800@www.ally-pally-kalbe.de
SUMMARY:1.Runde Vierer Team Cup
DESCRIPTION:Ally Pally Kalbe B – Ally Pally Kalbe A
URL:https://www.ally-pally-kalbe.de/event/1-runde-vierer-team-cup/
END:VEVENT
END:VCALENDAR