BEGIN:VCALENDAR
VERSION:2.0
PRODID:-//Ally Pally Kalbe - Dartabteilung der SG Kalbe e.V. - ECPv6.15.16//NONSGML v1.0//EN
CALSCALE:GREGORIAN
METHOD:PUBLISH
X-WR-CALNAME:Ally Pally Kalbe - Dartabteilung der SG Kalbe e.V.
X-ORIGINAL-URL:https://www.ally-pally-kalbe.de
X-WR-CALDESC:Veranstaltungen für Ally Pally Kalbe - Dartabteilung der SG Kalbe e.V.
REFRESH-INTERVAL;VALUE=DURATION:PT1H
X-Robots-Tag:noindex
X-PUBLISHED-TTL:PT1H
BEGIN:VTIMEZONE
TZID:Europe/Berlin
BEGIN:DAYLIGHT
TZOFFSETFROM:+0100
TZOFFSETTO:+0200
TZNAME:CEST
DTSTART:20170326T010000
END:DAYLIGHT
BEGIN:STANDARD
TZOFFSETFROM:+0200
TZOFFSETTO:+0100
TZNAME:CET
DTSTART:20171029T010000
END:STANDARD
BEGIN:DAYLIGHT
TZOFFSETFROM:+0100
TZOFFSETTO:+0200
TZNAME:CEST
DTSTART:20180325T010000
END:DAYLIGHT
BEGIN:STANDARD
TZOFFSETFROM:+0200
TZOFFSETTO:+0100
TZNAME:CET
DTSTART:20181028T010000
END:STANDARD
BEGIN:DAYLIGHT
TZOFFSETFROM:+0100
TZOFFSETTO:+0200
TZNAME:CEST
DTSTART:20190331T010000
END:DAYLIGHT
BEGIN:STANDARD
TZOFFSETFROM:+0200
TZOFFSETTO:+0100
TZNAME:CET
DTSTART:20191027T010000
END:STANDARD
END:VTIMEZONE
BEGIN:VEVENT
DTSTART;TZID=Europe/Berlin:20180427T190000
DTEND;TZID=Europe/Berlin:20180428T223000
DTSTAMP:20260424T205524
CREATED:20170730T101814Z
LAST-MODIFIED:20180418T083845Z
UID:1257-1524855600-1524954600@www.ally-pally-kalbe.de
SUMMARY:13.Spieltag BDVLH Bezirksliga 2
DESCRIPTION:Dart Moor Devils A – Ally Pally Kalbe A
URL:https://www.ally-pally-kalbe.de/event/13-spieltag-bdvlh-bezirksliga-2/
LOCATION:Dart Moor Devils Oyten\, Stader Strasse 90\, Oyten\, Niedersachsen\, 28876\, Deutschland
END:VEVENT
END:VCALENDAR